BEGIN:VCALENDAR
VERSION:2.0
BEGIN:VEVENT
URL:https://1rodina.cz/index.php/sit-1rodina/udalosti/viewevent/200-dochazi-jim-dech 
DTSTART:20240719T000000
DTEND:20240731T000000
SUMMARY:DOCHÁZÍ "JIM" DECH
DESCRIPTION:Přátelé a to na všech frontách a všimnul jsem si , že ta holčina s barevnýma dlaněma odsud nějak zmizela. Ona aniž by to tušila se na své profilové fotce prakticky svlékla úplně donaha a ukázala dlaně a tím i co je zač. No zas o jednoho křiklouna přibylo v propadlišti dějin a nad tou propastí se už stojí fronty. Stačí jen fouknout. 
LOCATION:SVĚT
END:VEVENT
END:VCALENDAR