BEGIN:VCALENDAR
VERSION:2.0
BEGIN:VEVENT
URL:https://1rodina.cz/index.php/sit-1rodina/udalosti/viewevent/201-jedovateho-obili-bude-letos-polovina 
DTSTART:20240719T000000
DTEND:20240731T000000
SUMMARY:JEDOVATÉHO OBILÍ BUDE LETOS POLOVINA
DESCRIPTION:Trochu se mi ulevilo, jen tak dál hoši.   
LOCATION:Východní Evropa
END:VEVENT
END:VCALENDAR