BEGIN:VCALENDAR
VERSION:2.0
BEGIN:VEVENT
URL:https://1rodina.cz/index.php/sit-1rodina/udalosti/viewevent/202-jak-drzi-planety-v-prostoru 
DTSTART:20240719T000000
DTEND:20240810T001500
SUMMARY:JAK DRŽÍ PLANETY V PROSTORU
DESCRIPTION:Vedl jsem kroužek pro děti Veselá věda a témata byla zadávána centrálně. Když to bylo o vesmíru ( a protože nerozpoznám souhvězdí velkého a malého vozu) telefonoval jsem do hvězdárny a ptal se jak ty všechny planety ve vesmíru drží no a sdělili mi, že vědí asi o třech silách ale ty to nevysvětlují. Při luštění křížovek jsem narazil na pro mne nové informace a  přepíšu je jsem  k zamyšlení. 
LOCATION:Vesmír
END:VEVENT
END:VCALENDAR