BEGIN:VCALENDAR
VERSION:2.0
BEGIN:VEVENT
URL:https://1rodina.cz/index.php/sit-1rodina/udalosti/viewevent/203-navrhuji-nasi-energii-smerovat-k-nasim-cilum-a-cilem-je-uz-ta-cesta 
DTSTART:20240720T000000
DTEND:20241231T001500
SUMMARY:NAVRHUJI NAŠI ENERGII SMĚŘOVAT K NAŠIM CÍLÚM a cílem je už ta cesta
DESCRIPTION:Přátelé snažím se to pochopit a nějak mi to nejde. Vždyť ty figurky jsou  spíš k politování než zaměstnávat  a zanášet  mysl  jejich zvrhlostí. Něco mne ponouká je přehlížet, překročit. Tyto zrůdy budou  žít paralelně pokud zvládnou zvýšené vibrace a jako že je nezvládají a nezvládnou a zmizí sami jako pára nad hrncem. Tak jak se říká " PŘEKROČIT SVÚJ STÍN" Jít a vnímat je jen jako slizké tvory kteří nesahají ani po kotníky a plazí se v těch penězích. Celá ta hra je o penězích. Tím že jsme laskaví ve vzájemných vztazích nedáváme prostor zvrhlostem co na nás plivou. No to jen tak k zamyšlení.
LOCATION:Svět
END:VEVENT
END:VCALENDAR