BEGIN:VCALENDAR
VERSION:2.0
BEGIN:VEVENT
URL:https://1rodina.cz/index.php/sit-1rodina/udalosti/viewevent/204-zivot-je-krasnej-jen-pro-ten-dnesni-den 
DTSTART:20240721T000000
DTEND:20240731T000000
SUMMARY:ŽIVOT JE KRÁSNEJ - JEN PRO TEN DNEŠNÍ DEN 
DESCRIPTION:Přátelé to je nádhera vnímáte ro taky
LOCATION:SVĚT
END:VEVENT
END:VCALENDAR