BEGIN:VCALENDAR
VERSION:2.0
BEGIN:VEVENT
URL:https://1rodina.cz/index.php/sit-1rodina/udalosti/viewevent/205-vyrazime-do-lesa-jako-na-houby 
DTSTART:20240721T000000
DTEND:20240724T000000
SUMMARY:VYRÁŽÍME DO LESA " JAKO NA HOUBY"
DESCRIPTION:Přátelé říká se, že půl hodiny procházky krajinou dokáže zharmonizovat tělíčko do rovnováhy. Jo kdyby náhodou i když náhody neexistují tam na nás ty houby čekali, vím jaký je to pocit, když tam přijdu a ONY tam jsou a jenom je můžu sbírat, žádné hledání a tak se mi o nich vždycky zdá. Tak ... před očima mám ty bedny Lišek co nasbíral ten "pohřbívaný" doktor a poslal fotku sem na rodinu
LOCATION:Česká republika
END:VEVENT
END:VCALENDAR