BEGIN:VCALENDAR
VERSION:2.0
BEGIN:VEVENT
URL:https://1rodina.cz/index.php/sit-1rodina/udalosti/viewevent/206-zacina-mne-to-bavit 
DTSTART:20240723T000000
DTEND:20240731T000000
SUMMARY:ZAČÍNÁ MNE TO BAVIT
DESCRIPTION:Přátelé když čtu ty nářky a domácí vězení pro neposlušné jedince úplně mne svrbí dlaně a přihlásím se na ten vysoce morální FB. Chci být ve skupině a Annou Prag, psal mi Tomáš Hrdlička, že so s ní mám spojit. Je tu takové ALE. Tady jsem ji v poště (zatím) nenašel a tak mi trochu pomožte. Děkuji předem Ivoš
LOCATION:Česká republika
END:VEVENT
END:VCALENDAR