BEGIN:VCALENDAR
VERSION:2.0
BEGIN:VEVENT
URL:https://1rodina.cz/index.php/sit-1rodina/udalosti/viewevent/207-uz-jsem-se-k-anne-prag-proklikal 
DTSTART:20240723T000000
DTEND:20240731T000000
SUMMARY:UŽ JSEM SE K ANNĚ PRAG PROKLIKAL
DESCRIPTION:Přátelé už jsem se k Anně proklikal a odeslal jí zprávu a prosbu o registraci ve skupině na FB
LOCATION:Česká republika
END:VEVENT
END:VCALENDAR