BEGIN:VCALENDAR
VERSION:2.0
BEGIN:VEVENT
URL:https://1rodina.cz/index.php/sit-1rodina/udalosti/viewevent/208-v-rece-metuji-je-o-metr-vic-vody-nez-vcera 
DTSTART:20240723T000000
DTEND:20240731T000000
SUMMARY:V ŘECE METUJI JE O METR VÍC VODY NEŽ VČERA
DESCRIPTION:Chodím se koupat a včera na soutoku staré a nové Metuje  jsme s vnukem tak tak přebrodili silný proud do tišiny. A dnes jsem jel ze sadu kde jsem sekal trávu do tůně Pod Prášivkou a zjistil jsem že splav splynul s proudem a koupal jsem se u schůdků na obrubníku kde je teď půl metru vody. Do proudu jsem jenom hleděl a viděl jsem se někde v Hamburku. Máme krásnou přírodu a ta si nás hýčká.
LOCATION:Jaeoměř
END:VEVENT
END:VCALENDAR