BEGIN:VCALENDAR
VERSION:2.0
BEGIN:VEVENT
URL:https://1rodina.cz/index.php/sit-1rodina/udalosti/viewevent/209-vybral-jsem-jednu-udalost-ziju 
DTSTART:20240724T000000
DTEND:20240731T000000
SUMMARY:VYBRAL JSEM JEDNU UDÁLOST- ŽIJU
DESCRIPTION:Přátelé to je největší událost v tomto blázinci. 
LOCATION:Svět
END:VEVENT
END:VCALENDAR