BEGIN:VCALENDAR
VERSION:2.0
BEGIN:VEVENT
URL:https://1rodina.cz/index.php/sit-1rodina/udalosti/viewevent/210-nitky-atentatu-se-sbihaji-do-jednoho-hnojiste 
DTSTART:20240725T000000
DTEND:20240731T000000
SUMMARY:NITKY ATENTÁTÚ SE SBÍHAJÍ DO JEDNOHO HNOJIŠTĚ
DESCRIPTION:Přátelé Gruzinec prohlásil, že výzvědné služby prošetřují plánované spiknutí proti jeho vládě a toto nese stejné znaky jako v americe, Slovensku a Maďarsku.
LOCATION:Svět
END:VEVENT
END:VCALENDAR