BEGIN:VCALENDAR
VERSION:2.0
BEGIN:VEVENT
URL:https://1rodina.cz/index.php/sit-1rodina/udalosti/viewevent/211-krasny-svatecni-den-a-anickam-zvlast 
DTSTART:20240726T000000
DTEND:20240731T000000
SUMMARY:KRÁSNÝ SVÁTEČNÍ DEN A ANIČKÁM ZVLÁŠŤ
DESCRIPTION:Přeji vše nejlepší Aničkám k svátku 
LOCATION:SVĚT
END:VEVENT
END:VCALENDAR