BEGIN:VCALENDAR
VERSION:2.0
BEGIN:VEVENT
URL:https://1rodina.cz/index.php/sit-1rodina/udalosti/viewevent/212-krasny-svatecni-den-a-anickam-zvlast 
DTSTART:20240727T000000
DTEND:20240727T001500
SUMMARY:KRÁSNÝ SVÁTEČNÍ DEN A ANIČKÁM ZVLÁŠŤ
DESCRIPTION:Přeji vše nejlepší Aničkám k svátku 
LOCATION:SVĚT
END:VEVENT
END:VCALENDAR