BEGIN:VCALENDAR
VERSION:2.0
BEGIN:VEVENT
URL:https://1rodina.cz/index.php/sit-1rodina/udalosti/viewevent/213-a-do-tretice-krasny-svatek-anickam 
DTSTART:20240726T000000
DTEND:20240731T000000
SUMMARY:A DO TŘETICE KRÁSNÝ SVÁTEK ANIČKÁM
DESCRIPTION:Přátelé ráno jsem to odklikl dvakrát a tak do třetice
LOCATION:Svět
END:VEVENT
END:VCALENDAR