BEGIN:VCALENDAR
VERSION:2.0
BEGIN:VEVENT
URL:https://1rodina.cz/index.php/sit-1rodina/udalosti/viewevent/214-ideal-telesne-krasy-a-duchovni-dokonalosti 
DTSTART:20240727T000000
DTEND:20240816T001500
SUMMARY:IDEÁL TĚLESNÉ KRÁSY A DUCHOVNÍ DOKONALOSTI
DESCRIPTION:TO JE PÚVODNÍ OLYMPIJSKÁ MYŠLENKA - REALITU JSEM VIDĚL V PŘÍMÉM PŘENOSU, naprostá dokonalost
LOCATION:SVĚT
END:VEVENT
END:VCALENDAR