BEGIN:VCALENDAR
VERSION:2.0
BEGIN:VEVENT
URL:https://1rodina.cz/index.php/sit-1rodina/udalosti/viewevent/215-praha-10-vrsovice-petrohradska-3-31-7-2024 
DTSTART:20240727T000000
DTEND:20240731T000000
SUMMARY:Praha 10 Vršovice, Petrohradská 3 - 31.7.2024
DESCRIPTION:Přátelé podle mapy je to díra, přemýšlím co je správné: Vidím tři možnosti IGNOROVAT ( jako ti policajti v parku), jít tam pokřikovat, nebo zkusit jít dovnitř a předstírat zájem  a že nemám na "vstupné" Jednou jsem šel v Karlových Varech do sídla IMPERIAL kde se konal údajně veřejný turnaj v GO to je takové postrkování kamínků. Nikdo z kolegů nechtěl jít se mnou. Přesvědčoval jsem je že si tam dáme aspoň pivko. Před hotelem gorily limuzíny, tam človíček zmizí beze stopy. No probojoval jsem se do recepce a byl jsem rád že jsem rád. No jak to vidíte přátelé.
LOCATION:Praha
END:VEVENT
END:VCALENDAR