BEGIN:VCALENDAR
VERSION:2.0
BEGIN:VEVENT
URL:https://1rodina.cz/index.php/sit-1rodina/udalosti/viewevent/216-tak-takhle-tady-zijem-pane-vachmajstr 
DTSTART:20240728T000000
DTEND:20240731T000000
SUMMARY:TAK TAKHLE TADY ŽIJEM PANE VACHMAJSTR
DESCRIPTION:Přátelé do Prahy pojedu. Volal mi Honza Vrabec a celou tu domluvu jsme prosmáli, nebudu trhat partu. Z východních Čech jede prý 8 lidí, Tomáš Hrdlička, Štefan Bartok, Oba Vrabcové, Ivoš a dál nevím. Honza ještě bude volat Ivaně. Sraz je  v Petrohradské ulici čp. 3 v Praze  Vršovicích v 17. hodin a divadlo začíná v 19. hodin. 31.7.2024 Přijedou i Husiti z Tábora no a promítání tématických filmů. 
LOCATION:Praha
END:VEVENT
END:VCALENDAR