BEGIN:VCALENDAR
VERSION:2.0
BEGIN:VEVENT
URL:https://1rodina.cz/index.php/sit-1rodina/udalosti/viewevent/217-medved-se-pohnul 
DTSTART:20240729T000000
DTEND:20240731T000000
SUMMARY:MEDVĚD SE POHNUL
DESCRIPTION:Přátelé ten od května bývalý prohlásil že 700 ze 700 vystřelených rachejtlí ničí vojáky. To je posun hlásal že bylo sestřeleno 38 z 39 vystřelených a škody jsou při tom nesmírné. UŽ SE PROLHAL K PRAVDĚ
LOCATION:Svět
END:VEVENT
END:VCALENDAR