BEGIN:VCALENDAR
VERSION:2.0
BEGIN:VEVENT
URL:https://1rodina.cz/index.php/sit-1rodina/udalosti/viewevent/218-lode-severni-flotily-zakotvily-na-kube-a-procvicuji-se 
DTSTART:20240729T000000
DTEND:20240801T000000
SUMMARY:LODĚ SEVERNÍ FLOTILY ZAKOTVILY NA KUBĚ A PROCVIČUJÍ SE
DESCRIPTION:Přátelé nejdemorkatičtější mírotvorná zemička prohlašuje že se cítí ohrožena pravidelnou návštěvou Severní flotily na Kubě. NO CO SI NAVAŘILI SI TEĎ SNĚDÍ
LOCATION:SVĚT
END:VEVENT
END:VCALENDAR