BEGIN:VCALENDAR
VERSION:2.0
BEGIN:VEVENT
URL:https://1rodina.cz/index.php/sit-1rodina/udalosti/viewevent/219-v-praze-vystoupi-divadelko-kasparka 
DTSTART:20240730T000000
DTEND:20240731T001500
SUMMARY:V PRAZE VYSTOUPÍ DIVADÉLKO KAŠPÁRKA
DESCRIPTION:Přátelé dovoluji si připomenout že dne 31.7.2024 v  17 hodin v Praze 10 v ulici Petrohradské čp. 3 probíhá malý filmový festival u příležitosti vítězství nad fašismem a potom vystoupí v 19 hodin putovní divadélko kašpárka s  programem jak mravenec útočí na Medvěda. Tato humoreska zaujala několik diváků na Severním  pólu a tak se svým programem přijeli na pozvání spejbla a hurvínka do Prahy.
LOCATION:Svět
END:VEVENT
END:VCALENDAR