BEGIN:VCALENDAR
VERSION:2.0
BEGIN:VEVENT
URL:https://1rodina.cz/index.php/sit-1rodina/udalosti/viewevent/22-peticni-stanek-na-malinovskeho-namesti-v-brne 
DTSTART:20231006T090000
DTEND:20231006T111500
SUMMARY:Petiční stánek na Malinovského náměstí v Brně
DESCRIPTION:<p>Pro velky úspěch dnes dopoledne opakujeme postaveni peticniho stanku! </p><br /><p>Budeme na místě asi 2 - 3 hodiny.</p><br /><p>Kdo máte zájem podepsat petici, a nebo se prostě jen pozdravit a popovídat si, prijďte se za námi podivat.</p><br /><p>Budeme se těšit!</p><br /><p>Vlanika a Corsodyla </p><br />
LOCATION:Brno -  Malinovského náměstí 
END:VEVENT
END:VCALENDAR