BEGIN:VCALENDAR
VERSION:2.0
BEGIN:VEVENT
URL:https://1rodina.cz/index.php/sit-1rodina/udalosti/viewevent/220-na-co-si-hraji 
DTSTART:20240730T000000
DTEND:20240731T000000
SUMMARY:NA CO SI HRAJÍ
DESCRIPTION:Přátelé je dobré si čas od času uvědomit že spojené státy trpaslíků tvoří 2% populace na planetě Zemi A TAK I K JEJICH KOMANDOVÁNÍ PŘISTUPOVAT.
LOCATION:PLANETA ZEMĚ
END:VEVENT
END:VCALENDAR