BEGIN:VCALENDAR
VERSION:2.0
BEGIN:VEVENT
URL:https://1rodina.cz/index.php/sit-1rodina/udalosti/viewevent/221-bomba 
DTSTART:20240801T000000
DTEND:20240831T000000
SUMMARY:BOMBA
DESCRIPTION:Přátelé mám dobré pocity z akce a tak se mi nechtělo tu " bombu" komentovat. Musí to však ven. Situace.: slepá ulice 100 lidí před domem 50 policistů kolem nich  u vstupu do ulice kordony policajtů  dva policajti to natáčeli na kameru a fotka "bomby" u policejního auta které navíc stálo opodál dění a připravený pyrotechnik  oni hráli to divadlo i venku i ve sklepě. SAMI SI NA SEBE UŠILI Z OSTUDY KABÁT, kdo myslíte že tam tu  tašku položil. U Vchodu do sklepa - divadla kontrolní rám a venku  celou dobu kamerované schromáždění  není problém si to přehrát  ale jenom tam kde je vůle tam je cesta. Všechy ty akce: Vrbětice, fakulta pěkně smrdí.
LOCATION:Svět
END:VEVENT
END:VCALENDAR