BEGIN:VCALENDAR
VERSION:2.0
BEGIN:VEVENT
URL:https://1rodina.cz/index.php/sit-1rodina/udalosti/viewevent/222-jeste-jednu-ze-zakulisi 
DTSTART:20240802T000000
DTEND:20240803T000000
SUMMARY:JEŠTĚ JEDNU ZE ZÁKULISÍ
DESCRIPTION:Přátelé postavil jsem se před fortnu a sledoval pódium, vedle mne dva típkové (jak jsem později zjistil ti ze sklepa) a když jsem hlasitě podpořil proslov z pódia úplně se oklepali a když pokřikovali sdělil jsem jim ať to jdou říct do mikrofonu a  potom jsem šel ke vchodu do sklepa - divadla a tam se začali formovat a ti dva šeptali holčině (asi že jsem z mírového tábora) vůbec nepočítali že se k nim přifaří mírotvůrce. Potom se dohadovali že je nežádoucí aby někdo mírový slyšel jejich konspiraci a pěkně se hádali. Stál jsem a smál se. Rozdali si vesty a já jsem odkráčel. Zastavil se u mne ten típek už ve vestě podával jsem mu ruku a přál štěstí v jeho práci Zkusil mne manipulovat že mám dát tu ruku výš a postavil jsem se vedle něj a ukázal že jsem stejně velký ať si nevyskakuje a s úsměvem jsem odkráčel.
LOCATION:Praha
END:VEVENT
END:VCALENDAR