BEGIN:VCALENDAR
VERSION:2.0
BEGIN:VEVENT
URL:https://1rodina.cz/index.php/sit-1rodina/udalosti/viewevent/223-a-jeste-jednu-ze-sklepa 
DTSTART:20240803T000000
DTEND:20240831T000000
SUMMARY:A ještě jednu ze sklepa
DESCRIPTION:Přátelé na vlastní oči jsem poprvé v životě viděl tu nukleární inženýrku. Tak jak jsem tam postával najednou stála naproti mně v úzké chodbě a snažila se tvářit. Vnímal jsem tu figurku jako bezcenné nic a vůbec jsem si nevšiml toho komentovaného tryčka Vůbec mne nenapadlo že jsem schopen živého tvora přehlížet jako by byl průsvitný, takové nic. Tak to jen takový pocit
LOCATION:Praha
END:VEVENT
END:VCALENDAR