BEGIN:VCALENDAR
VERSION:2.0
BEGIN:VEVENT
URL:https://1rodina.cz/index.php/sit-1rodina/udalosti/viewevent/224-pricovy-17-8-2024-setkani-vlastencu-9-17-hodin 
DTSTART:20240817T000000
DTEND:20240818T001500
SUMMARY:PŘÍČOVY 17.8.2024 SETKÁNÍ VLASTENCÚ 9- 17. hodin
DESCRIPTION:Přátelé na setkání vlastenců se zúčastní i Jarek Nohavica, to je dobře, zval jsem ho na  Mírové dny a tenkrát nechtěl přijet. Je cítit že ve veřejném prostoru rezonují vlastenecké myšlenky.
LOCATION:Příčovy
END:VEVENT
END:VCALENDAR