BEGIN:VCALENDAR
VERSION:2.0
BEGIN:VEVENT
URL:https://1rodina.cz/index.php/sit-1rodina/udalosti/viewevent/225-a-jeste-jednu-od-sklepa 
DTSTART:20240803T000000
DTEND:20240808T000000
SUMMARY:A JEŠTĚ JEDNU OD SKLEPA
DESCRIPTION:Přátelé s novinářem jménem Novák ze seznamu jsem se bavil, on měl notýsek a  zapisoval si počet příchozích a když jsem říkal že je jako Kolombo  trochu měl těky a když přišel Tomáš Hrdlička z vlajkou na třímetrové tyči a vítali jsme se přifařil se s nadějí na rozhovor a když jsem říkal Tomáši jak jsi se s tou vlajkou vešel do auta tak to vzdal. No pak jsem mu ukazoval reportéra s parádní kamerou a ptal jsem se jestli ho zná, že má moderní přístroj, no šel jsem se zeptat a byl ze svobodné evropy a hlásil jsem mu to s poznámkou že ta stanice ještě existuje pravil, že to ví přece každé malé dítě, no komedie, nakonec mne potajmu vyfotil a dal k článku z akce a můžu říct po tom co jsem mu vyčetl že mapu bojů ukazujou z r. 2022 ten článek napsal jakž takž po tom co dělal rozhovor s Rudou od pokladny a bylo vidět že by se něm mohl vyskákat . 
LOCATION:Praha
END:VEVENT
END:VCALENDAR