BEGIN:VCALENDAR
VERSION:2.0
BEGIN:VEVENT
URL:https://1rodina.cz/index.php/sit-1rodina/udalosti/viewevent/226-prsi-krasne-cas-skladat-basne 
DTSTART:20240804T000000
DTEND:20240805T000000
SUMMARY:PRŠÍ KRÁSNĚ ČAS SKLÁDAT BÁSNĚ 
DESCRIPTION:Přátelé jak to vidíte
LOCATION:Česká republika
END:VEVENT
END:VCALENDAR