BEGIN:VCALENDAR
VERSION:2.0
BEGIN:VEVENT
URL:https://1rodina.cz/index.php/sit-1rodina/udalosti/viewevent/227-krasna-plet-a-krasna-hlaska 
DTSTART:20240804T000000
DTEND:20240805T000000
SUMMARY:KRÁSNÁ PLEŤ A KRÁSNÁ HLÁŠKA 
DESCRIPTION:Přátelé odbornice na péči o  pleť v dámském studiu teď vypustila krásnou hlášku o kterou se  chci podělit: OBLIČEJ  KONČÍ TAM, KDE ZAČÍNÁ PODPRSENKA
LOCATION:SVĚT
END:VEVENT
END:VCALENDAR