BEGIN:VCALENDAR
VERSION:2.0
BEGIN:VEVENT
URL:https://1rodina.cz/index.php/sit-1rodina/udalosti/viewevent/228-nemcum-se-rozsvitilo 
DTSTART:20240805T000000
DTEND:20240819T000000
SUMMARY:NĚMCÚM SE ROZSVÍTILO
DESCRIPTION:Mírové akce požadují svůj domov bez raket bez naco bez dodávek zbraní a  vládu označují za idioty no a při akcích bylo prý zadrženo několik občanů pro nošení "režimem nedovolených symbolů"  - JAKÁ SHODA NAPŘÍČ ANGLOSASY A SLOVANY, už taky cítí že jim jde o "kejhák"
LOCATION:SVĚT
END:VEVENT
END:VCALENDAR