BEGIN:VCALENDAR
VERSION:2.0
BEGIN:VEVENT
URL:https://1rodina.cz/index.php/sit-1rodina/udalosti/viewevent/229-uz-bezi-uz-bezi-utikaji-evakuuji-4-brigady-rozprasene 
DTSTART:20240805T000000
DTEND:20240819T000000
SUMMARY:UŽ BĚŽÍ, UŽ BĚŽÍ - UTÍKAJÍ  EVAKUUJÍ 4 brigády ROZPRÁŠENÉ
DESCRIPTION:Přátelé je to tak na obranu ale mají  f-16 a k nim 6 vycvičených pilotů a jedna f-16 potřebuje k boji 2 slovy dva piloty
LOCATION:Svět
END:VEVENT
END:VCALENDAR