BEGIN:VCALENDAR
VERSION:2.0
BEGIN:VEVENT
URL:https://1rodina.cz/index.php/sit-1rodina/udalosti/viewevent/23-narky-ve-svetovem-ekonomickem-foru 
DTSTART:20231009T000000
DTEND:20231009T001500
SUMMARY:NÁŘKY ve světovém ekonomickém fóru.
DESCRIPTION:Ekonomka na světovém ekonomickém fóru ms. Mariany Mazzucato NAŘÍKALA a uvedla Témata jako virus bacilus nebo globální oteplování evidentně NEZAPÚSOBILA cituji" na ta chovná prasata" myšleno LIDIČKY a je nutné nastolit nové téma a tím je VODA. (poznámka radaktora: jsme tvořeni asi ze 60 až 70% vodou a proto je strašení z nedostatku vody působivé ). Jenom zrůda v nějaké samozvané  sektě může o lidech takhle mluvit a uvěžovat 
LOCATION:Královéhradecký kraj
END:VEVENT
END:VCALENDAR