BEGIN:VCALENDAR
VERSION:2.0
BEGIN:VEVENT
URL:https://1rodina.cz/index.php/sit-1rodina/udalosti/viewevent/230-ten-kdo-planuje-vrazdu-zaslouzi-snad-uz-jen-pohrdani 
DTSTART:20240806T000000
DTEND:20240819T000000
SUMMARY:TEN KDO PLÁNUJE VRAŽDU  ZASLOUŽÍ SNAD UŽ JEN POHRDÁNÍ
DESCRIPTION:Přátelé vyšlo najevo že hodně ALE hodně demokratická vláda plánovala vraždu prezidenta cizího státu a takové demokratické zřízení je sedlákům a bačům  dáváno rádoby za ... bože ty to vidíš a čeká je už jen hněv boží když PRÁVO jaksi NENÍ
LOCATION:Evropa
END:VEVENT
END:VCALENDAR