BEGIN:VCALENDAR
VERSION:2.0
BEGIN:VEVENT
URL:https://1rodina.cz/index.php/sit-1rodina/udalosti/viewevent/231-zablokovane-nahravani-vodei-od-svetovych-medii 
DTSTART:20240807T000000
DTEND:20240831T000000
SUMMARY:ZABLOKOVANÉ NAHRÁVÁNÍ VODEÍ OD SVĚTOVÝCH MÉDIÍ
DESCRIPTION:Přátelé Romanu Kirschovi NĚKDO (YT) zablokoval přehrávání videí o průběhu dění v Evropě i v Arábii. UŽ TU ZOBRAZENOU PRAVDU ZKRÁTKA NEUNESLI. Tato videa jsou i ze zámořských zdrojů. Už se jim to sype. Minule mu smazali fotku 3 měsíčního vnoučka jak chodí na nočník a to mu pro jistotu začernil pindíka.
LOCATION:SVĚT
END:VEVENT
END:VCALENDAR