BEGIN:VCALENDAR
VERSION:2.0
BEGIN:VEVENT
URL:https://1rodina.cz/index.php/sit-1rodina/udalosti/viewevent/232-po-4-letech-se-schyluje-k-soudu-s-ivanem-kratochvilem 
DTSTART:20240807T000000
DTEND:20240831T000000
SUMMARY:PO 4 LETECH SE SCHYLUJE K SOUDU S IVANEM KRATOCHVÍLEM
DESCRIPTION:Přátelé podplukovníka v záloze Ivana Kratochvíla před 4 lety obvinili u pedofilie, vlastizrady, terorismu s dál si nepamatuju a teď když se schyluje k soudu nabízejí mu mimosoudní vyrovnání . Připomíná mi to konsil s Mistrem Janem Husem : ODVOLEJ A BUDE TI ODPUŠTĚNO. On jasně vyjádřil že k soudu půjde obhajovat svoji čest.
LOCATION:Česká republika
END:VEVENT
END:VCALENDAR