BEGIN:VCALENDAR
VERSION:2.0
BEGIN:VEVENT
URL:https://1rodina.cz/index.php/sit-1rodina/udalosti/viewevent/233-arabove-odmitaji-podporit-ucast-americkych-mirovych-sil-v-gaze 
DTSTART:20240807T000000
DTEND:20240831T000000
SUMMARY:ARABOVÉ ODMÍTAJÍ PODPOŘIT ÚČAST amerických "MÍROVÝCH SIL" V GAZE
DESCRIPTION:Přátelé takto nestydatě nazývají ty svoje výboje a Arabové jim řekli ahoj.
LOCATION:Svět
END:VEVENT
END:VCALENDAR