BEGIN:VCALENDAR
VERSION:2.0
BEGIN:VEVENT
URL:https://1rodina.cz/index.php/sit-1rodina/udalosti/viewevent/234-proc-proc-proc 
DTSTART:20240819T000000
DTEND:20240831T000000
SUMMARY:PROČ, PROČ, PROČ
DESCRIPTION:Ivča a Mlčech byli vymazáni tady z Rodiny. Kdo to ví odpoví
LOCATION:Svět
END:VEVENT
END:VCALENDAR