BEGIN:VCALENDAR
VERSION:2.0
BEGIN:VEVENT
URL:https://1rodina.cz/index.php/sit-1rodina/udalosti/viewevent/235-no-tak-vasku-rekni-k-tomu-neco 
DTSTART:20240819T000000
DTEND:20240831T000000
SUMMARY:NO TAK VAŠKU ŘEKNI K TOMU NĚCO
DESCRIPTION:Ty jsi měl přeci  na You - Toube zaracha asi týden ALE tady je to jak se zdá na doživotí
LOCATION:Svět
END:VEVENT
END:VCALENDAR