BEGIN:VCALENDAR
VERSION:2.0
BEGIN:VEVENT
URL:https://1rodina.cz/index.php/sit-1rodina/udalosti/viewevent/236-veskerou-diskusi-jen-v-soukrome-poste-a-e-mail-batelka-5-seznam-cz 
DTSTART:20240904T000000
DTEND:20241231T000000
SUMMARY:VEŠKEROU DISKUSI JEN V SOUKROMÉ POŠTĚ A E-mail: Batelka.5@seznam.cz
DESCRIPTION:
LOCATION:SVĚT
END:VEVENT
END:VCALENDAR