BEGIN:VCALENDAR
VERSION:2.0
BEGIN:VEVENT
URL:https://1rodina.cz/index.php/sit-1rodina/udalosti/viewevent/237-mrtvo-co 
DTSTART:20240907T000000
DTEND:20240930T000000
SUMMARY:MRTVO CO. 
DESCRIPTION:CO SI KDO ZASEJE TO I SKLIDÍ
LOCATION:Česká republika
END:VEVENT
END:VCALENDAR