BEGIN:VCALENDAR
VERSION:2.0
BEGIN:VEVENT
URL:https://1rodina.cz/index.php/sit-1rodina/udalosti/viewevent/238-mirovy-pochod-50-podle-policie-70-lidicek 
DTSTART:20240908T000000
DTEND:20240930T000000
SUMMARY:MÍROVÝ POCHOD 50, podle Policie 70 lidiček
DESCRIPTION:Přátelé místo řečiček zvedněte prdelky u klávesnice je každý generál.
LOCATION:SVĚT
END:VEVENT
END:VCALENDAR