BEGIN:VCALENDAR
VERSION:2.0
BEGIN:VEVENT
URL:https://1rodina.cz/index.php/sit-1rodina/udalosti/viewevent/239-prima-recicky-kdo-byl-u-azovu-v-praze 
DTSTART:20240908T000000
DTEND:20241031T001500
SUMMARY:PRIMA ŘEČIČKY -  KDO BYL U AZOVU v PRAZE ? 
DESCRIPTION:JÁ A STO LIDIČEK A KDO Z VÁS, KDO TU ŤEČNÍTE O AKCI  AZOVU JSTE BYLI v PRAZE?
LOCATION:Praha
END:VEVENT
END:VCALENDAR