BEGIN:VCALENDAR
VERSION:2.0
BEGIN:VEVENT
URL:https://1rodina.cz/index.php/sit-1rodina/udalosti/viewevent/24-spejbl-ohromil 
DTSTART:20231013T000000
DTEND:20231013T001500
SUMMARY:Spejbl OHROMIL
DESCRIPTION:Spejbl měl včera projev a na pohled vypadal jako TROSKA . Když jsme mu vypnuli zvuk, rozhazoval ručičkama a to je projev nejistoty a pomáhá si rukama . Podle mne chodí ne nějaké kurzy klaunů a mimů. Nejdřív se snažil promlčet se a teď takovou LABUTÍ PÍSEŇ.A to je dobrá zpráva a důvod proč se chci o svůj zážitek s Vámi podělit. Pěkný den Ivoš 
LOCATION:Královéhradecký kraj
END:VEVENT
END:VCALENDAR