BEGIN:VCALENDAR
VERSION:2.0
BEGIN:VEVENT
URL:https://1rodina.cz/index.php/sit-1rodina/udalosti/viewevent/240-rec-se-mluni-a-voda-tece-kdo-byl-na-mirovem-pochodu-v-praze 
DTSTART:20240908T000000
DTEND:20241031T000000
SUMMARY:ŘEČ SE MLUNÍ A VODA TEČE. KDO BYL NA MÍROVÉM POCHODU v PRAZE
DESCRIPTION:Bylo tam cca 100 lidiček, kdo z Vás co tu píšete jste tam fyzicky bylli?
LOCATION:Praha
END:VEVENT
END:VCALENDAR