BEGIN:VCALENDAR
VERSION:2.0
BEGIN:VEVENT
URL:https://1rodina.cz/index.php/sit-1rodina/udalosti/viewevent/241-hrajeme-snad-na-svazaky-a-nasvazaky 
DTSTART:20240912T000000
DTEND:20241031T001500
SUMMARY:HRAJEME SNAD NA SVAZÁKY A NASVAZÁKY
DESCRIPTION:Já s právem do všeho mluvit se zastávám Míry. KAŽDÝ KAŽDÝ, KAŽDÝ MÁ ZDE PRÁVO A ÚSTAVNÍ PRÁVO NA SVOBIDU PROJEVU. Kdo nemá argumenty používá hrubosti a urážky a k tomu se mezi sebou nemůžeme snižovat. Je ještě taková říkanka NAEČIŇ JINÉMU TO NECHCEŠ ABY BYLO ČINĚNO TOBĚ nebo tak nějak. Míru zdar a buďme na sebe hodní.
LOCATION:Česká republika 
END:VEVENT
END:VCALENDAR