BEGIN:VCALENDAR
VERSION:2.0
BEGIN:VEVENT
URL:https://1rodina.cz/index.php/sit-1rodina/udalosti/viewevent/242-fiala-mel-vcera-resit-prusvih-a-rekl-a-priznal-ze-je-nemocen 
DTSTART:20240912T000000
DTEND:20240930T000000
SUMMARY:fiala MĚL VČERA ŘEŠIT PRÚŠVIH A ŘEKL A PŘIZNAL ŽE JE NEMOCEN
DESCRIPTION:No my to všichni víme a on asi konečně navštívil terapeuta. No to jen tak pro pobavení
LOCATION:Praha
END:VEVENT
END:VCALENDAR