BEGIN:VCALENDAR
VERSION:2.0
BEGIN:VEVENT
URL:https://1rodina.cz/index.php/sit-1rodina/udalosti/viewevent/243-mesto-jaromer-rusi-nasili-a-valky 
DTSTART:20240913T000000
DTEND:20241031T001500
SUMMARY:MĚSTO JAROMĚŘ RUŠÍ NÁSILÍ A VÁLKY
DESCRIPTION:DOPORUČUJEME OBČANÚM, KTEŘÍ SE AKCÍ ÚČASTNILI ABY POŽÁDALI O VRÉCENÍ VSTUPENEK DO NACO A EU
LOCATION:SVĚT
END:VEVENT
END:VCALENDAR