BEGIN:VCALENDAR
VERSION:2.0
BEGIN:VEVENT
URL:https://1rodina.cz/index.php/sit-1rodina/udalosti/viewevent/244-naco-couva-maji-plne-gate 
DTSTART:20240914T000000
DTEND:20241231T001500
SUMMARY:NACO COUVÁ MAJÍ PLNÉ GATĚ 
DESCRIPTION:Přátelé ONI SE BOJÍ, BOJÍ , BOJÍ po jasném prohlášení  stáhli ocas , tak tihle by nás chtěli údajně bránit. Naše občany by takováhle údajná aliance bránila asi jako ty ukáčka jsou to hrobaři. MÍRU ZDAR
LOCATION:Svět
END:VEVENT
END:VCALENDAR