BEGIN:VCALENDAR
VERSION:2.0
BEGIN:VEVENT
URL:https://1rodina.cz/index.php/sit-1rodina/udalosti/viewevent/245-oni-jen-tise-sedi-a-medituji 
DTSTART:20240914T000000
DTEND:20241231T001500
SUMMARY:ONI JEN TIŠE SEDÍ A MEDITUJÍ
DESCRIPTION:Působí tím na rovnováhu mezi dobrem a zlem na planetě. Naproti tomu u klávesnice snůška hrozeb a PROTI AZOVU 100 slovy sto skutečných hrdinů. Na MÍROVÉM POCHODU 50 slovy padesát lidiček. Kdo z těch co lechtá klávesnici TAM BYL. OZVĚTE SE MI Pěkný den Ivoš 
LOCATION:Svět
END:VEVENT
END:VCALENDAR