BEGIN:VCALENDAR
VERSION:2.0
BEGIN:VEVENT
URL:https://1rodina.cz/index.php/sit-1rodina/udalosti/viewevent/246-nikdo-nikdo-nikdo-se-neozval-ze-protestoval 
DTSTART:20240914T000000
DTEND:20241231T001500
SUMMARY:NIKDO, NIKDO, NIKDO se neozval že protestoval
DESCRIPTION:<span>Je takové pravidlo : MYŠLENKA = ZMĚNA SYSTÉMU, SLOVO= I LECHTÁNÍ KLÁVESNICE, ČIN = FYZICKY NEBO PSYCHYCKY VYKONAT  TO CO BYLO VYMYŠLENO</span><div>                                   -------------------                                       ------------                                                 -------   </div><div> A VYSLOVENO. Je mi líto , nikdo co tu prezentují názory JINÝCH nenašel odvahu k ČINU, opravdovému činu. MÍRU ZDAR</div>
LOCATION:Svět
END:VEVENT
END:VCALENDAR